BEGIN:VCALENDAR
VERSION:2.0
PRODID:-//http://bioconf.fr//EN
BEGIN:VEVENT
DTSTAMP:20260623T103000Z
STATUS:CONFIRMED
DTSTART:20260623T103000Z
DTEND:20260623T113000Z
SUMMARY: Seminaire: 
DESCRIPTION:Immunity in context: how tissues instruct immune responses
X-ALT-DESC;FMTTYPE=text/html:Immunity in context: how tissues instruct immune responses
LOCATION:Institut Pasteur - Salle AGNES ULLMAN AUDITORIUM , 
END:VEVENT
END:VCALENDAR