BEGIN:VCALENDAR
VERSION:2.0
PRODID:-//http://bioconf.fr//EN
BEGIN:VEVENT
DTSTAMP:20260511T100000Z
STATUS:CONFIRMED
DTSTART:20260511T100000Z
DTEND:20260511T110000Z
SUMMARY: Seminaire: Seth GRANT 
DESCRIPTION: The architecture of synapse diversity in health and disease
X-ALT-DESC;FMTTYPE=text/html: The architecture of synapse diversity in health and disease
LOCATION:IBENS - salle des Résistants (1er étage, escalier A), 45 rue d'Ulm 75005 Paris
END:VEVENT
END:VCALENDAR