BEGIN:VCALENDAR
VERSION:2.0
PRODID:-//http://bioconf.fr//EN
BEGIN:VEVENT
DTSTAMP:20260505T130000Z
STATUS:CONFIRMED
DTSTART:20260505T130000Z
DTEND:20260505T140000Z
SUMMARY: Seminaire: Pierre BADUEL 
DESCRIPTION: Transposable elements as vectors of allelic and- epiallelic exploration and their contribution to plant- genome evolution
X-ALT-DESC;FMTTYPE=text/html: Transposable elements as vectors of allelic and- epiallelic exploration and their contribution to plant- genome evolution
LOCATION:IBENS - salle Favard, IBENS 46 rue d'Ulm 75005 Paris
END:VEVENT
END:VCALENDAR