BEGIN:VCALENDAR
VERSION:2.0
PRODID:-//http://bioconf.fr//EN
BEGIN:VEVENT
DTSTAMP:20260608T230000Z
STATUS:CONFIRMED
DTSTART:20260608T230000Z
DTEND:20260610T225900Z
SUMMARY: Seminaire: 
DESCRIPTION:Cancers gynecologiques : de la pratique clinique a la biologie
X-ALT-DESC;FMTTYPE=text/html:Cancers gynecologiques : de la pratique clinique a la biologie
LOCATION:Institut Curie - Centre de recherche - Paris - Amphitheatre Constant-Burg - 12 rue Lhomond, Paris 5e
END:VEVENT
END:VCALENDAR