BEGIN:VCALENDAR
VERSION:2.0
PRODID:-//http://bioconf.fr//EN
BEGIN:VEVENT
DTSTAMP:20261116T230000Z
STATUS:CONFIRMED
DTSTART:20261116T230000Z
DTEND:20261117T225959Z
SUMMARY: Seminaire: 
DESCRIPTION:Ctrl+Epi+Edit, Engineering the Epigenome
X-ALT-DESC;FMTTYPE=text/html:Ctrl+Epi+Edit, Engineering the Epigenome
LOCATION:Institut Jacques Monod - Institut Jacques Monod Amphitheatre Buffon, 15 rue Helene Brion, Paris, France
END:VEVENT
END:VCALENDAR