BEGIN:VCALENDAR
VERSION:2.0
PRODID:-//http://bioconf.fr//EN
BEGIN:VEVENT
DTSTAMP:20260708T103000Z
STATUS:CONFIRMED
DTSTART:20260708T103000Z
DTEND:20260708T120000Z
SUMMARY: Seminaire: Stefan Diez
DESCRIPTION:Gliding Motion of Diatoms: Motors, Filaments, and Dynamic Trajectory Control
X-ALT-DESC;FMTTYPE=text/html:Gliding Motion of Diatoms: Motors, Filaments, and Dynamic Trajectory Control
LOCATION:Institut Curie - Centre de recherche - Paris - Amphitheatre Marie Curie
END:VEVENT
END:VCALENDAR