BEGIN:VCALENDAR
VERSION:2.0
PRODID:-//http://bioconf.fr//EN
BEGIN:VEVENT
DTSTAMP:20260505T133000Z
STATUS:CONFIRMED
DTSTART:20260505T133000Z
DTEND:20260505T143000Z
SUMMARY: Seminaire: Nicolas Chevalier
DESCRIPTION:Intestinal motility: ontogenesis and morphogenetic effects
X-ALT-DESC;FMTTYPE=text/html:Intestinal motility: ontogenesis and morphogenetic effects
LOCATION:Institut Curie - Centre de recherche - Paris - Amphitheatre Helene Martel-Massignac (BDD)
END:VEVENT
END:VCALENDAR