BEGIN:VCALENDAR
VERSION:2.0
PRODID:-//http://bioconf.fr//EN
BEGIN:VEVENT
DTSTAMP:20260513T150000Z
STATUS:CONFIRMED
DTSTART:20260513T150000Z
DTEND:20260513T160000Z
SUMMARY: Seminaire: Eloise Berson
DESCRIPTION:Unlocking Molecular Signatures of Alzheimer's Resilience Using Deep Learning
X-ALT-DESC;FMTTYPE=text/html:Unlocking Molecular Signatures of Alzheimer's Resilience Using Deep Learning
LOCATION:Institut Pasteur - Batiment Lwoff, salle Salle RETROVIRUS, 
END:VEVENT
END:VCALENDAR