BEGIN:VCALENDAR
VERSION:2.0
PRODID:-//http://bioconf.fr//EN
BEGIN:VEVENT
DTSTAMP:20260520T103000Z
STATUS:CONFIRMED
DTSTART:20260520T103000Z
DTEND:20260520T120000Z
SUMMARY: Seminaire: Gisou VAN DER GOOT
DESCRIPTION:Novel insights into tissue mechano-adaptation through extracellular matrix sensing
X-ALT-DESC;FMTTYPE=text/html:Novel insights into tissue mechano-adaptation through extracellular matrix sensing
LOCATION:Institut Curie - Centre de recherche - Paris - Amphitheatre IPGG - 6 rue Jean Calvin, Paris 5e
END:VEVENT
END:VCALENDAR