BEGIN:VCALENDAR
VERSION:2.0
PRODID:-//http://bioconf.fr//EN
BEGIN:VEVENT
DTSTAMP:20260612T103000Z
STATUS:CONFIRMED
DTSTART:20260612T103000Z
DTEND:20260612T110000Z
SUMMARY: Seminaire: Camilla Bellone
DESCRIPTION:Neurobiological mechanisms of social behaviour.
X-ALT-DESC;FMTTYPE=text/html:Neurobiological mechanisms of social behaviour.
LOCATION:NeuroPSI - Salle de conference Albe-Fessard 
END:VEVENT
END:VCALENDAR