BEGIN:VCALENDAR
VERSION:2.0
PRODID:-//http://bioconf.fr//EN
BEGIN:VEVENT
DTSTAMP:20260521T110000Z
STATUS:CONFIRMED
DTSTART:20260521T110000Z
DTEND:20260521T120000Z
SUMMARY: Seminaire: Julien ROBERT-PAGANIN, UMR144, Institut Curie, Paris
DESCRIPTION:Investigating Plasmodium myosins to identify antimalarial targets
X-ALT-DESC;FMTTYPE=text/html:Investigating Plasmodium myosins to identify antimalarial targets
LOCATION:Institut Cochin - Salle Rosalind Franklin
END:VEVENT
END:VCALENDAR