BEGIN:VCALENDAR
VERSION:2.0
PRODID:-//http://bioconf.fr//EN
BEGIN:VEVENT
DTSTAMP:20260505T100000Z
STATUS:CONFIRMED
DTSTART:20260505T100000Z
DTEND:20260505T110000Z
SUMMARY: Seminaire: 
DESCRIPTION:Assembly and polarization of the Golgi apparatus
X-ALT-DESC;FMTTYPE=text/html:Assembly and polarization of the Golgi apparatus
LOCATION:Laboratoire Jean Perrin - Laboratoire Jean Perrin - Campus Jussieu - T 22-32- 4e et. - P407
END:VEVENT
END:VCALENDAR