BEGIN:VCALENDAR
VERSION:2.0
PRODID:-//http://bioconf.fr//EN
BEGIN:VEVENT
DTSTAMP:20260428T100000Z
STATUS:CONFIRMED
DTSTART:20260428T100000Z
DTEND:20260428T110000Z
SUMMARY: Seminaire: 
DESCRIPTION:Rewriting protein modifications
X-ALT-DESC;FMTTYPE=text/html:Rewriting protein modifications
LOCATION:Institut Pasteur - Batiment F. Jacob , salle Auditorium F. Jacob , 
END:VEVENT
END:VCALENDAR