BEGIN:VCALENDAR
VERSION:2.0
PRODID:-//http://bioconf.fr//EN
BEGIN:VEVENT
DTSTAMP:20260625T110000Z
STATUS:CONFIRMED
DTSTART:20260625T110000Z
DTEND:20260625T120000Z
SUMMARY: Seminaire: Sjaak Neefjes
DESCRIPTION:The many faces of doxorubicin and how to improve it for new cancer therapies
X-ALT-DESC;FMTTYPE=text/html:The many faces of doxorubicin and how to improve it for new cancer therapies
LOCATION:Centre de Recherche des Cordeliers - 
END:VEVENT
END:VCALENDAR