BEGIN:VCALENDAR
VERSION:2.0
PRODID:-//http://bioconf.fr//EN
BEGIN:VEVENT
DTSTAMP:20260520T130000Z
STATUS:CONFIRMED
DTSTART:20260520T130000Z
DTEND:20260520T160000Z
SUMMARY: Seminaire: Guillaume Chevreux
DESCRIPTION:«Comprendre le vivant a l'echelle des proteines»
X-ALT-DESC;FMTTYPE=text/html:«Comprendre le vivant a l'echelle des proteines»
LOCATION:Institut Jacques Monod - Institut Jacques Monod Salle Francois Jacob, 15 rue Helene Brion, Paris, France
END:VEVENT
END:VCALENDAR