BEGIN:VCALENDAR
VERSION:2.0
PRODID:-//http://bioconf.fr//EN
BEGIN:VEVENT
DTSTAMP:20260522T104500Z
STATUS:CONFIRMED
DTSTART:20260522T104500Z
DTEND:20260522T120000Z
SUMMARY: Seminaire: Claire Chazaud
DESCRIPTION:The emergence of the mouse pluripotent epiblast
X-ALT-DESC;FMTTYPE=text/html:The emergence of the mouse pluripotent epiblast
LOCATION:Institut Jacques Monod - Institut Jacques Monod Salle Francois Jacob, 15 rue Helene Brion, Paris, France
END:VEVENT
END:VCALENDAR