BEGIN:VCALENDAR
VERSION:2.0
PRODID:-//http://bioconf.fr//EN
BEGIN:VEVENT
DTSTAMP:20260529T104500Z
STATUS:CONFIRMED
DTSTART:20260529T104500Z
DTEND:20260529T120000Z
SUMMARY: Seminaire: Navajas Acedo
DESCRIPTION:SpatiotemporalEmergence of Somatosensory Neuron Diversity
X-ALT-DESC;FMTTYPE=text/html:SpatiotemporalEmergence of Somatosensory Neuron Diversity
LOCATION:Institut Jacques Monod - Institut Jacques Monod Salle Francois Jacob, 15 rue Helene Brion, Paris, France
END:VEVENT
END:VCALENDAR